BEGIN:VCALENDAR
VERSION:2.0
PRODID:-//Tierfreunde Münster Tierschutzverein e.V. - ECPv6.15.20//NONSGML v1.0//EN
CALSCALE:GREGORIAN
METHOD:PUBLISH
X-ORIGINAL-URL:https://www.tierfreunde-ms.de
X-WR-CALDESC:Veranstaltungen für Tierfreunde Münster Tierschutzverein e.V.
REFRESH-INTERVAL;VALUE=DURATION:PT1H
X-Robots-Tag:noindex
X-PUBLISHED-TTL:PT1H
BEGIN:VTIMEZONE
TZID:Europe/Berlin
BEGIN:DAYLIGHT
TZOFFSETFROM:+0100
TZOFFSETTO:+0200
TZNAME:CEST
DTSTART:20230326T010000
END:DAYLIGHT
BEGIN:STANDARD
TZOFFSETFROM:+0200
TZOFFSETTO:+0100
TZNAME:CET
DTSTART:20231029T010000
END:STANDARD
BEGIN:DAYLIGHT
TZOFFSETFROM:+0100
TZOFFSETTO:+0200
TZNAME:CEST
DTSTART:20240331T010000
END:DAYLIGHT
BEGIN:STANDARD
TZOFFSETFROM:+0200
TZOFFSETTO:+0100
TZNAME:CET
DTSTART:20241027T010000
END:STANDARD
BEGIN:DAYLIGHT
TZOFFSETFROM:+0100
TZOFFSETTO:+0200
TZNAME:CEST
DTSTART:20250330T010000
END:DAYLIGHT
BEGIN:STANDARD
TZOFFSETFROM:+0200
TZOFFSETTO:+0100
TZNAME:CET
DTSTART:20251026T010000
END:STANDARD
END:VTIMEZONE
BEGIN:VEVENT
DTSTART;TZID=Europe/Berlin:20241215T140000
DTEND;TZID=Europe/Berlin:20241215T170000
DTSTAMP:20260419T152330
CREATED:20250105T212102Z
LAST-MODIFIED:20250105T212102Z
UID:4231-1734271200-1734282000@www.tierfreunde-ms.de
SUMMARY:Tierheimbescherung 2024
DESCRIPTION:Unsere tra­di­tionelle Tier­he­imbescherung mit Geschenken für unsere Tiere sowie Kaf­fee\, Kuchen und heiße Getränke für die Besuch­er.
URL:https://www.tierfreunde-ms.de/termine/tierheimbescherung-2024/
LOCATION:Tierfreunde Münster Tierschutzverein e.V.\, Kötterstraße 198\, Münster\, NRW\, 48157\, Germany
ATTACH;FMTTYPE=image/jpeg:https://www.tierfreunde-ms.de/wp-content/uploads/2024/12/WhatsApp_Bild_2024-08-25_um_19.00.14_2964b054.jpg
ORGANIZER;CN="Tierfreunde M%C3%BCnster":MAILTO:info@tierfreunde-ms.de
END:VEVENT
END:VCALENDAR